BEGIN:VCALENDAR
VERSION:2.0
PRODID:icalendar-ruby
CALSCALE:GREGORIAN
METHOD:PUBLISH
BEGIN:VEVENT
DTSTAMP:20260421T194410Z
UID:160-344195@fcctuscola.com
DTSTART:20261009T203000Z
DTEND:20261009T220000Z
CLASS:PUBLIC
CREATED:20260421T133439
DESCRIPTION:
LAST-MODIFIED:20260421T133439
LOCATION:
SUMMARY:Jr High Youth Group
URL;VALUE=URI:https://www.fcctuscola.com/events/jr-high-youth-group/2026-10
 -09
ATTACH;FILENAME=Jr High.jpg;FMTTYPE=image/jpeg:https://dq5pwpg1q8ru0.cloudf
 ront.net/2025/08/21/21/37/51/36a56b75-7adf-49fc-b5cd-b75b71bc4373/Jr%20Hig
 h.jpg
END:VEVENT
END:VCALENDAR
